BEGIN:VCALENDAR
PRODID:-//HKUST Drupal Platform//EN
VERSION:2.0
BEGIN:VTIMEZONE
TZID:Asia/Hong_Kong
BEGIN:STANDARD
DTSTART:20071104T020000
TZOFFSETFROM:+0700
TZOFFSETTO:+0800
TZNAME:HKT
END:STANDARD
END:VTIMEZONE
BEGIN:VEVENT
DTSTAMP;TZID=Asia/Hong_Kong:20260421T005138
DTSTART;TZID=Asia/Hong_Kong:20250801T160000
DTEND;TZID=Asia/Hong_Kong:20250801T190000
LOCATION:Room 3494 (Lifts 25-26), 3/F Academic Building, HKUST
SUMMARY:MPhil in Computer Science & Engg - Advanced Retrieval-Augmented Generation in Multi-Turn Dialogues and Heterogeneous Multi-Cloud Computing Environments
UID:44404
END:VEVENT
END:VCALENDAR