BEGIN:VCALENDAR
PRODID:-//HKUST Drupal Platform//EN
VERSION:2.0
BEGIN:VTIMEZONE
TZID:Asia/Hong_Kong
BEGIN:STANDARD
DTSTART:20071104T020000
TZOFFSETFROM:+0700
TZOFFSETTO:+0800
TZNAME:HKT
END:STANDARD
END:VTIMEZONE
BEGIN:VEVENT
DTSTAMP;TZID=Asia/Hong_Kong:20260421T010342
DTSTART;TZID=Asia/Hong_Kong:20250725T093000
DTEND;TZID=Asia/Hong_Kong:20250725T123000
LOCATION:W3-105, HKUST(GZ); https://hkust-gz-edu-cn.zoom.us/j/96539606556?pwd=DQBOVU4aw9MZlvQRfqOIoR9BvOtw5I.1, HKUST
SUMMARY:PHD in Individual Interdisci Prog - The Intelligent Auto-tracking RF WPT System with Reconfigurable Components
UID:44403
END:VEVENT
END:VCALENDAR