BEGIN:VCALENDAR
PRODID:-//HKUST Drupal Platform//EN
VERSION:2.0
BEGIN:VTIMEZONE
TZID:Asia/Hong_Kong
BEGIN:STANDARD
DTSTART:20071104T020000
TZOFFSETFROM:+0700
TZOFFSETTO:+0800
TZNAME:HKT
END:STANDARD
END:VTIMEZONE
BEGIN:VEVENT
DTSTAMP;TZID=Asia/Hong_Kong:20260421T022856
DTSTART;TZID=Asia/Hong_Kong:20250715T150000
DTEND;TZID=Asia/Hong_Kong:20250715T180000
LOCATION:Room 4504 (Lifts 25-26), 4/F Academic Building, HKUST
SUMMARY:PHD in Nano Science & Technology - Phase Separation on Soft Solid Surfaces Induced by Wetting and Adhesion
UID:44389
END:VEVENT
END:VCALENDAR