BEGIN:VCALENDAR
PRODID:-//HKUST Drupal Platform//EN
VERSION:2.0
BEGIN:VTIMEZONE
TZID:Asia/Hong_Kong
BEGIN:STANDARD
DTSTART:20071104T020000
TZOFFSETFROM:+0700
TZOFFSETTO:+0800
TZNAME:HKT
END:STANDARD
END:VTIMEZONE
BEGIN:VEVENT
DTSTAMP;TZID=Asia/Hong_Kong:20260421T020737
DTSTART;TZID=Asia/Hong_Kong:20250818T150000
DTEND;TZID=Asia/Hong_Kong:20250818T180000
LOCATION:Room 2550 + Room 2551 (Lifts 27-28), 2/F Academic Building; Zoom Meeting: https://hkust.zoom.us/j/92810496898?pwd=SX9bERHkWlgTFPHmpaQyTfIjMZDwqa.1 (Meeting ID: 928 1049 6898; Passcode: 484921), HKUST
SUMMARY:PHD in Mechanical Engineering - Efficient Structural Topology Optimization Based on Artificial Neural Networks
UID:44380
END:VEVENT
END:VCALENDAR