BEGIN:VCALENDAR
PRODID:-//HKUST Drupal Platform//EN
VERSION:2.0
BEGIN:VTIMEZONE
TZID:Asia/Hong_Kong
BEGIN:STANDARD
DTSTART:20071104T020000
TZOFFSETFROM:+0700
TZOFFSETTO:+0800
TZNAME:HKT
END:STANDARD
END:VTIMEZONE
BEGIN:VEVENT
DTSTAMP;TZID=Asia/Hong_Kong:20260420T142615
DTSTART;TZID=Asia/Hong_Kong:20250612T113000
DTEND;TZID=Asia/Hong_Kong:20250612T163000
LOCATION:SSC Hub (near Passione)
SUMMARY:Stop! Don\'t Shop! Adopt! - Student Hall Items Distribution
UID:44373
END:VEVENT
BEGIN:VEVENT
DTSTAMP;TZID=Asia/Hong_Kong:20260420T142615
DTSTART;TZID=Asia/Hong_Kong:20250613T113000
DTEND;TZID=Asia/Hong_Kong:20250613T163000
LOCATION:SSC Hub (near Passione)
SUMMARY:Stop! Don\'t Shop! Adopt! - Student Hall Items Distribution
UID:44373
END:VEVENT
END:VCALENDAR