BEGIN:VCALENDAR
PRODID:-//HKUST Drupal Platform//EN
VERSION:2.0
BEGIN:VTIMEZONE
TZID:Asia/Hong_Kong
BEGIN:STANDARD
DTSTART:20071104T020000
TZOFFSETFROM:+0700
TZOFFSETTO:+0800
TZNAME:HKT
END:STANDARD
END:VTIMEZONE
BEGIN:VEVENT
DTSTAMP;TZID=Asia/Hong_Kong:20260423T061649
DTSTART;TZID=Asia/Hong_Kong:20250709T103000
DTEND;TZID=Asia/Hong_Kong:20250709T133000
LOCATION:Room 3494 (Lifts 25-26), 3/F Academic Building, HKUST
SUMMARY:PHD in Physics - Probing Ultralight Bosons in the Environment of Supermassive Black Holes
UID:44353
END:VEVENT
END:VCALENDAR