BEGIN:VCALENDAR
PRODID:-//HKUST Drupal Platform//EN
VERSION:2.0
BEGIN:VTIMEZONE
TZID:Asia/Hong_Kong
BEGIN:STANDARD
DTSTART:20071104T020000
TZOFFSETFROM:+0700
TZOFFSETTO:+0800
TZNAME:HKT
END:STANDARD
END:VTIMEZONE
BEGIN:VEVENT
DTSTAMP;TZID=Asia/Hong_Kong:20260421T022855
DTSTART;TZID=Asia/Hong_Kong:20250716T100000
DTEND;TZID=Asia/Hong_Kong:20250716T130000
LOCATION:Room 5506 (Lifts 25-26), 5/F Academic Building, HKUST
SUMMARY:PHD in Mathematics - Theoretical Study of Neural Network Models: Error Bounds on Approximation, Generalization, and Optimization with Applications to Regression and Partial Differential Equations
UID:44349
END:VEVENT
END:VCALENDAR