BEGIN:VCALENDAR
PRODID:-//HKUST Drupal Platform//EN
VERSION:2.0
BEGIN:VTIMEZONE
TZID:Asia/Hong_Kong
BEGIN:STANDARD
DTSTART:20071104T020000
TZOFFSETFROM:+0700
TZOFFSETTO:+0800
TZNAME:HKT
END:STANDARD
END:VTIMEZONE
BEGIN:VEVENT
DTSTAMP;TZID=Asia/Hong_Kong:20260420T220840
DTSTART;TZID=Asia/Hong_Kong:20250612T090000
DTEND;TZID=Asia/Hong_Kong:20250612T180000
LOCATION:Leung Yat Sing Lecture Theater (LT-F), HKUST
SUMMARY:2nd Frontier Symposium on Synthesis (\"FSS2025\") -- AI for Synthetic and Medicinal Chemistry (section 1) and Synthesis in Functional Materials (Section 2)
UID:44344
END:VEVENT
END:VCALENDAR