BEGIN:VCALENDAR
PRODID:-//HKUST Drupal Platform//EN
VERSION:2.0
BEGIN:VTIMEZONE
TZID:Asia/Hong_Kong
BEGIN:STANDARD
DTSTART:20071104T020000
TZOFFSETFROM:+0700
TZOFFSETTO:+0800
TZNAME:HKT
END:STANDARD
END:VTIMEZONE
BEGIN:VEVENT
DTSTAMP;TZID=Asia/Hong_Kong:20260421T022859
DTSTART;TZID=Asia/Hong_Kong:20250721T143000
DTEND;TZID=Asia/Hong_Kong:20250721T173000
LOCATION:Room 5047, Lee Shau Kee Business Building, HKUST
SUMMARY:PHD in Finance - Political Leaning Affects the Deployment and Operating Efficiency of Solar Power Plants in US
UID:44328
END:VEVENT
END:VCALENDAR