BEGIN:VCALENDAR
PRODID:-//HKUST Drupal Platform//EN
VERSION:2.0
BEGIN:VTIMEZONE
TZID:Asia/Hong_Kong
BEGIN:STANDARD
DTSTART:20071104T020000
TZOFFSETFROM:+0700
TZOFFSETTO:+0800
TZNAME:HKT
END:STANDARD
END:VTIMEZONE
BEGIN:VEVENT
DTSTAMP;TZID=Asia/Hong_Kong:20260421T022855
DTSTART;TZID=Asia/Hong_Kong:20250714T103000
DTEND;TZID=Asia/Hong_Kong:20250714T133000
LOCATION:Room 5560, (Lift 27-28), 5/F Academic Building, HKUST
SUMMARY:MPhil in Marine Environmental Sci - Evolution of Marine Bacteria and Phages: Specific Genomic Adaptations and Group I Intron Origins
UID:44313
END:VEVENT
END:VCALENDAR