BEGIN:VCALENDAR
PRODID:-//HKUST Drupal Platform//EN
VERSION:2.0
BEGIN:VTIMEZONE
TZID:Asia/Hong_Kong
BEGIN:STANDARD
DTSTART:20071104T020000
TZOFFSETFROM:+0700
TZOFFSETTO:+0800
TZNAME:HKT
END:STANDARD
END:VTIMEZONE
BEGIN:VEVENT
DTSTAMP;TZID=Asia/Hong_Kong:20260421T022933
DTSTART;TZID=Asia/Hong_Kong:20250724T100000
DTEND;TZID=Asia/Hong_Kong:20250724T130000
LOCATION:Room 4472 (Lifts 25-26), 4/F Academic Building, HKUST
SUMMARY:PHD in Physics - Unconventional Josephson Effects in Quantum Materials
UID:44308
END:VEVENT
END:VCALENDAR