BEGIN:VCALENDAR
PRODID:-//HKUST Drupal Platform//EN
VERSION:2.0
BEGIN:VTIMEZONE
TZID:Asia/Hong_Kong
BEGIN:STANDARD
DTSTART:20071104T020000
TZOFFSETFROM:+0700
TZOFFSETTO:+0800
TZNAME:HKT
END:STANDARD
END:VTIMEZONE
BEGIN:VEVENT
DTSTAMP;TZID=Asia/Hong_Kong:20260421T004557
DTSTART;TZID=Asia/Hong_Kong:20250812T140000
DTEND;TZID=Asia/Hong_Kong:20250812T170000
LOCATION:Room 3494 (Lifts 25-26), 3/F Academic Building, HKUST
SUMMARY:PHD in Computer Science & Engg - Enhancing the Utility of Privacy-Preserving Techniques in Location-based Services (LBS) Applications
UID:44302
END:VEVENT
END:VCALENDAR