BEGIN:VCALENDAR
PRODID:-//HKUST Drupal Platform//EN
VERSION:2.0
BEGIN:VTIMEZONE
TZID:Asia/Hong_Kong
BEGIN:STANDARD
DTSTART:20071104T020000
TZOFFSETFROM:+0700
TZOFFSETTO:+0800
TZNAME:HKT
END:STANDARD
END:VTIMEZONE
BEGIN:VEVENT
DTSTAMP;TZID=Asia/Hong_Kong:20260423T061926
DTSTART;TZID=Asia/Hong_Kong:20250617T100000
DTEND;TZID=Asia/Hong_Kong:20250617T130000
LOCATION:Room 5560 (Lifts 27/28), 5/F. Academic Building; https://hkust.zoom.us/j/95868940268?pwd=2ObfxcO7HbV0GSqsQEg1CzvL73hbyq.1 (Meeting ID: 958 6894 0268 Passcode: 041966), HKUST
SUMMARY:PHD in Mechanical Engineering - Ultrasonic Technology for Inspection of Lithium-Ion Battery Health Status
UID:44284
END:VEVENT
END:VCALENDAR