BEGIN:VCALENDAR
PRODID:-//HKUST Drupal Platform//EN
VERSION:2.0
BEGIN:VTIMEZONE
TZID:Asia/Hong_Kong
BEGIN:STANDARD
DTSTART:20071104T020000
TZOFFSETFROM:+0700
TZOFFSETTO:+0800
TZNAME:HKT
END:STANDARD
END:VTIMEZONE
BEGIN:VEVENT
DTSTAMP;TZID=Asia/Hong_Kong:20260421T011728
DTSTART;TZID=Asia/Hong_Kong:20250710T100000
DTEND;TZID=Asia/Hong_Kong:20250710T130000
LOCATION: , HKUST
SUMMARY:DBA in Doctor of Business Admin - The Impact of Cooperating with Walmart on Cost Sharing
UID:44283
END:VEVENT
END:VCALENDAR