BEGIN:VCALENDAR
PRODID:-//HKUST Drupal Platform//EN
VERSION:2.0
BEGIN:VTIMEZONE
TZID:Asia/Hong_Kong
BEGIN:STANDARD
DTSTART:20071104T020000
TZOFFSETFROM:+0700
TZOFFSETTO:+0800
TZNAME:HKT
END:STANDARD
END:VTIMEZONE
BEGIN:VEVENT
DTSTAMP;TZID=Asia/Hong_Kong:20260423T094043
DTSTART;TZID=Asia/Hong_Kong:20250624T143000
DTEND;TZID=Asia/Hong_Kong:20250624T173000
LOCATION:Room 4472 (Lifts 25-26), 4/F Academic Building, HKUST
SUMMARY:PHD in Chemistry - Novel AIE Luminogens for Biological Applications & Cryo-EM Structures of Human p97-Adapter Complexes
UID:44278
END:VEVENT
END:VCALENDAR