BEGIN:VCALENDAR
PRODID:-//HKUST Drupal Platform//EN
VERSION:2.0
BEGIN:VTIMEZONE
TZID:Asia/Hong_Kong
BEGIN:STANDARD
DTSTART:20071104T020000
TZOFFSETFROM:+0700
TZOFFSETTO:+0800
TZNAME:HKT
END:STANDARD
END:VTIMEZONE
BEGIN:VEVENT
DTSTAMP;TZID=Asia/Hong_Kong:20260423T090335
DTSTART;TZID=Asia/Hong_Kong:20250702T140000
DTEND;TZID=Asia/Hong_Kong:20250702T170000
LOCATION:HKUSTGZ, E1, 2F, Room 201  Zoom Meeting https://hkust-gz-edu-cn.zoom.us/j/94913954108?pwd=gGbaFdxk2igFwVaaSFiaaQKkVkHoea.1  Meeting ID: 949 1395 4108 Passcode: iott, HKUST
SUMMARY:PHD in Individual Interdisci Prog - Understanding, Improving, and Implementing Federated Learning on Heterogeneous Data
UID:44247
END:VEVENT
END:VCALENDAR