BEGIN:VCALENDAR
PRODID:-//HKUST Drupal Platform//EN
VERSION:2.0
BEGIN:VTIMEZONE
TZID:Asia/Hong_Kong
BEGIN:STANDARD
DTSTART:20071104T020000
TZOFFSETFROM:+0700
TZOFFSETTO:+0800
TZNAME:HKT
END:STANDARD
END:VTIMEZONE
BEGIN:VEVENT
DTSTAMP;TZID=Asia/Hong_Kong:20260420T181322
DTSTART;TZID=Asia/Hong_Kong:20250528T140000
DTEND;TZID=Asia/Hong_Kong:20250528T150000
LOCATION:Room 4475,  4/F (Lifts 25-26), Academic Building
SUMMARY:Department of Chemistry - PhD Student Seminar - Handling Static Correlation In Quantum Chemistry
UID:44231
END:VEVENT
END:VCALENDAR