BEGIN:VCALENDAR
PRODID:-//HKUST Drupal Platform//EN
VERSION:2.0
BEGIN:VTIMEZONE
TZID:Asia/Hong_Kong
BEGIN:STANDARD
DTSTART:20071104T020000
TZOFFSETFROM:+0700
TZOFFSETTO:+0800
TZNAME:HKT
END:STANDARD
END:VTIMEZONE
BEGIN:VEVENT
DTSTAMP;TZID=Asia/Hong_Kong:20260421T010343
DTSTART;TZID=Asia/Hong_Kong:20250711T100000
DTEND;TZID=Asia/Hong_Kong:20250711T130000
LOCATION:Room 4472 (Lifts 25-26), 4/F Academic Building, HKUST
SUMMARY:PHD in Mathematics - PDE-Driven Methods for Scientific Discovery: Dislocation Simulation, Protein Design, and Neural PDE Solvers
UID:44202
END:VEVENT
END:VCALENDAR