BEGIN:VCALENDAR
PRODID:-//HKUST Drupal Platform//EN
VERSION:2.0
BEGIN:VTIMEZONE
TZID:Asia/Hong_Kong
BEGIN:STANDARD
DTSTART:20071104T020000
TZOFFSETFROM:+0700
TZOFFSETTO:+0800
TZNAME:HKT
END:STANDARD
END:VTIMEZONE
BEGIN:VEVENT
DTSTAMP;TZID=Asia/Hong_Kong:20260425T185516
DTSTART;TZID=Asia/Hong_Kong:20250524T100000
DTEND;TZID=Asia/Hong_Kong:20250524T130000
LOCATION:Room 201, W2, Teaching Zone, Guangzhou Campus, HKUST
SUMMARY:PHD in Individual Interdisci Prog - Human peritoneal macrophages show unique sexual dimorphism of transcriptional differentiation and function during type 2 diabetes progression
UID:44197
END:VEVENT
END:VCALENDAR