BEGIN:VCALENDAR
PRODID:-//HKUST Drupal Platform//EN
VERSION:2.0
BEGIN:VTIMEZONE
TZID:Asia/Hong_Kong
BEGIN:STANDARD
DTSTART:20071104T020000
TZOFFSETFROM:+0700
TZOFFSETTO:+0800
TZNAME:HKT
END:STANDARD
END:VTIMEZONE
BEGIN:VEVENT
DTSTAMP;TZID=Asia/Hong_Kong:20260423T072743
DTSTART;TZID=Asia/Hong_Kong:20250626T140000
DTEND;TZID=Asia/Hong_Kong:20250626T170000
LOCATION:Room 2408 (Lifts 17-18), 2/F Academic Building, HKUST
SUMMARY:PHD in Electronic & Comp Engg - GaN-Based Electronic Devices for Extreme Wide-Temperature-Range (X-WTR) Applications
UID:44195
END:VEVENT
END:VCALENDAR