BEGIN:VCALENDAR
PRODID:-//HKUST Drupal Platform//EN
VERSION:2.0
BEGIN:VTIMEZONE
TZID:Asia/Hong_Kong
BEGIN:STANDARD
DTSTART:20071104T020000
TZOFFSETFROM:+0700
TZOFFSETTO:+0800
TZNAME:HKT
END:STANDARD
END:VTIMEZONE
BEGIN:VEVENT
DTSTAMP;TZID=Asia/Hong_Kong:20260426T005115
DTSTART;TZID=Asia/Hong_Kong:20250613T150000
DTEND;TZID=Asia/Hong_Kong:20250613T180000
LOCATION:Room 3494 (Lifts 25-26), 3/F Academic Building, HKUST
SUMMARY:PHD in Computer Science & Engg - Innovative Approaches to Data Curation and Retrieval-Augmented Generation: From Annotation and Preparation to Retrieval.
UID:44150
END:VEVENT
END:VCALENDAR