BEGIN:VCALENDAR
PRODID:-//HKUST Drupal Platform//EN
VERSION:2.0
BEGIN:VTIMEZONE
TZID:Asia/Hong_Kong
BEGIN:STANDARD
DTSTART:20071104T020000
TZOFFSETFROM:+0700
TZOFFSETTO:+0800
TZNAME:HKT
END:STANDARD
END:VTIMEZONE
BEGIN:VEVENT
DTSTAMP;TZID=Asia/Hong_Kong:20260425T091638
DTSTART;TZID=Asia/Hong_Kong:20250606T100000
DTEND;TZID=Asia/Hong_Kong:20250606T130000
LOCATION:Room 1005, Lee Shau Kee Business Building, HKUST
SUMMARY:PHD in Marketing - Two Essays on Visual Marketing Design and Consumer Attention
UID:44148
END:VEVENT
END:VCALENDAR