BEGIN:VCALENDAR
PRODID:-//HKUST Drupal Platform//EN
VERSION:2.0
BEGIN:VTIMEZONE
TZID:Asia/Hong_Kong
BEGIN:STANDARD
DTSTART:20071104T020000
TZOFFSETFROM:+0700
TZOFFSETTO:+0800
TZNAME:HKT
END:STANDARD
END:VTIMEZONE
BEGIN:VEVENT
DTSTAMP;TZID=Asia/Hong_Kong:20260423T143053
DTSTART;TZID=Asia/Hong_Kong:20250623T100000
DTEND;TZID=Asia/Hong_Kong:20250623T130000
LOCATION:Room 2550 + Room 2551 (Lifts 27-28), 2/F Academic Building, HKUST
SUMMARY:PHD in Mechanical Engineering - Study on Coherent Structures in Furbulent Channel Flows
UID:44133
END:VEVENT
END:VCALENDAR