BEGIN:VCALENDAR
PRODID:-//HKUST Drupal Platform//EN
VERSION:2.0
BEGIN:VTIMEZONE
TZID:Asia/Hong_Kong
BEGIN:STANDARD
DTSTART:20071104T020000
TZOFFSETFROM:+0700
TZOFFSETTO:+0800
TZNAME:HKT
END:STANDARD
END:VTIMEZONE
BEGIN:VEVENT
DTSTAMP;TZID=Asia/Hong_Kong:20260425T185513
DTSTART;TZID=Asia/Hong_Kong:20250520T140000
DTEND;TZID=Asia/Hong_Kong:20250520T170000
LOCATION:Room 2128B (Lift 19), 2/F Academic Building, HKUST
SUMMARY:PHD in Computer Science & Engg - Towards Medical Image Understanding and Interpretation: From Anatomy to Clinical Insights
UID:44029
END:VEVENT
END:VCALENDAR