BEGIN:VCALENDAR
PRODID:-//HKUST Drupal Platform//EN
VERSION:2.0
BEGIN:VTIMEZONE
TZID:Asia/Hong_Kong
BEGIN:STANDARD
DTSTART:20071104T020000
TZOFFSETFROM:+0700
TZOFFSETTO:+0800
TZNAME:HKT
END:STANDARD
END:VTIMEZONE
BEGIN:VEVENT
DTSTAMP;TZID=Asia/Hong_Kong:20260423T080220
DTSTART;TZID=Asia/Hong_Kong:20250616T140000
DTEND;TZID=Asia/Hong_Kong:20250616T170000
LOCATION:Room 5560 (Lifts 27/28), 5/F. Academic Building; https://hkust.zoom.us/j/99299866615?pwd=1xRwwQrGZATYkLnJORjHkpe5WzyRE3.1 (Meeting ID: 992 9986 6615 Passcode: 664559), HKUST
SUMMARY:PHD in Mechanical Engineering - Vertical Comb-actuated Scanning Micromirror with CMOS MEMS Technology
UID:44005
END:VEVENT
END:VCALENDAR