BEGIN:VCALENDAR
PRODID:-//HKUST Drupal Platform//EN
VERSION:2.0
BEGIN:VTIMEZONE
TZID:Asia/Hong_Kong
BEGIN:STANDARD
DTSTART:20071104T020000
TZOFFSETFROM:+0700
TZOFFSETTO:+0800
TZNAME:HKT
END:STANDARD
END:VTIMEZONE
BEGIN:VEVENT
DTSTAMP;TZID=Asia/Hong_Kong:20260420T093421
DTSTART;TZID=Asia/Hong_Kong:20250507T150000
DTEND;TZID=Asia/Hong_Kong:20250507T160000
LOCATION:Room 3584A (Lift 27/28), Academic Building, HKUST
SUMMARY:[CANCELLED] Civil Engineering Departmental Seminar  - Integration of electric vehicle charging infrastructure with solar resources
UID:44000
END:VEVENT
END:VCALENDAR