BEGIN:VCALENDAR
PRODID:-//HKUST Drupal Platform//EN
VERSION:2.0
BEGIN:VTIMEZONE
TZID:Asia/Hong_Kong
BEGIN:STANDARD
DTSTART:20071104T020000
TZOFFSETFROM:+0700
TZOFFSETTO:+0800
TZNAME:HKT
END:STANDARD
END:VTIMEZONE
BEGIN:VEVENT
DTSTAMP;TZID=Asia/Hong_Kong:20260425T091640
DTSTART;TZID=Asia/Hong_Kong:20250603T150000
DTEND;TZID=Asia/Hong_Kong:20250603T180000
LOCATION:E1-103, HKUST(GZ) / Zoom ID: 979 9061 2387, Passcode: dsa2025, HKUST
SUMMARY:PHD in Individual Interdisci Prog - Towards Efficient and Effective Alignment of Large Language Models
UID:43949
END:VEVENT
END:VCALENDAR