BEGIN:VCALENDAR
PRODID:-//HKUST Drupal Platform//EN
VERSION:2.0
BEGIN:VTIMEZONE
TZID:Asia/Hong_Kong
BEGIN:STANDARD
DTSTART:20071104T020000
TZOFFSETFROM:+0700
TZOFFSETTO:+0800
TZNAME:HKT
END:STANDARD
END:VTIMEZONE
BEGIN:VEVENT
DTSTAMP;TZID=Asia/Hong_Kong:20260425T212618
DTSTART;TZID=Asia/Hong_Kong:20250606T093000
DTEND;TZID=Asia/Hong_Kong:20250606T123000
LOCATION:E1-202, HKUST(GZ) / Zoom ID: 981 3735 3788, Passcode: dsa2025, HKUST
SUMMARY:PHD in Individual Interdisci Prog - Generalizable and Efficient Transfer Learning for Graph and Language Models
UID:43948
END:VEVENT
END:VCALENDAR