BEGIN:VCALENDAR
PRODID:-//HKUST Drupal Platform//EN
VERSION:2.0
BEGIN:VTIMEZONE
TZID:Asia/Hong_Kong
BEGIN:STANDARD
DTSTART:20071104T020000
TZOFFSETFROM:+0700
TZOFFSETTO:+0800
TZNAME:HKT
END:STANDARD
END:VTIMEZONE
BEGIN:VEVENT
DTSTAMP;TZID=Asia/Hong_Kong:20260425T212617
DTSTART;TZID=Asia/Hong_Kong:20250603T140000
DTEND;TZID=Asia/Hong_Kong:20250603T170000
LOCATION:LSK 4047, 4/F Meeting Room, Lee Shau Kee Building,, HKUST
SUMMARY:MPhil in Information Systems - When Social Presence Backfires: A Field Experiment of AI-enabled Telemarketing
UID:43929
END:VEVENT
END:VCALENDAR