BEGIN:VCALENDAR
PRODID:-//HKUST Drupal Platform//EN
VERSION:2.0
BEGIN:VTIMEZONE
TZID:Asia/Hong_Kong
BEGIN:STANDARD
DTSTART:20071104T020000
TZOFFSETFROM:+0700
TZOFFSETTO:+0800
TZNAME:HKT
END:STANDARD
END:VTIMEZONE
BEGIN:VEVENT
DTSTAMP;TZID=Asia/Hong_Kong:20260420T155124
DTSTART;TZID=Asia/Hong_Kong:20250514T160000
DTEND;TZID=Asia/Hong_Kong:20250514T173000
LOCATION:Padma and Hari Harilela Lecture Theater (LT-C), HKUST
SUMMARY:$10 Research, Academic and Industry Sectors One-plus Scheme (RASIe+ Scheme)
UID:43899
END:VEVENT
END:VCALENDAR