BEGIN:VCALENDAR
PRODID:-//HKUST Drupal Platform//EN
VERSION:2.0
BEGIN:VTIMEZONE
TZID:Asia/Hong_Kong
BEGIN:STANDARD
DTSTART:20071104T020000
TZOFFSETFROM:+0700
TZOFFSETTO:+0800
TZNAME:HKT
END:STANDARD
END:VTIMEZONE
BEGIN:VEVENT
DTSTAMP;TZID=Asia/Hong_Kong:20260425T224306
DTSTART;TZID=Asia/Hong_Kong:20250429T153000
DTEND;TZID=Asia/Hong_Kong:20250429T183000
LOCATION:Teaching District, W3, 1F, 105, HKUST(GZ), HKUST
SUMMARY:PHD in Individual Interdisci Prog - Harnessing Large Language Models for Scientific Innovation and Broader Impact
UID:43876
END:VEVENT
END:VCALENDAR