BEGIN:VCALENDAR
PRODID:-//HKUST Drupal Platform//EN
VERSION:2.0
BEGIN:VTIMEZONE
TZID:Asia/Hong_Kong
BEGIN:STANDARD
DTSTART:20071104T020000
TZOFFSETFROM:+0700
TZOFFSETTO:+0800
TZNAME:HKT
END:STANDARD
END:VTIMEZONE
BEGIN:VEVENT
DTSTAMP;TZID=Asia/Hong_Kong:20260425T185521
DTSTART;TZID=Asia/Hong_Kong:20250429T133000
DTEND;TZID=Asia/Hong_Kong:20250429T163000
LOCATION:Room 2550 + Room 2551 (Lifts 27-28), 2/F Academic Building, HKUST
SUMMARY:PHD in Mechanical Engineering - Experimental Characterization of the Aero-acoustics by 2D Airfoils and 3D Wind Turbine Blades Equipped with Bio-Inspired Leading-Edge Serrations
UID:43836
END:VEVENT
END:VCALENDAR