BEGIN:VCALENDAR
PRODID:-//HKUST Drupal Platform//EN
VERSION:2.0
BEGIN:VTIMEZONE
TZID:Asia/Hong_Kong
BEGIN:STANDARD
DTSTART:20071104T020000
TZOFFSETFROM:+0700
TZOFFSETTO:+0800
TZNAME:HKT
END:STANDARD
END:VTIMEZONE
BEGIN:VEVENT
DTSTAMP;TZID=Asia/Hong_Kong:20260425T003538
DTSTART;TZID=Asia/Hong_Kong:20250613T103000
DTEND;TZID=Asia/Hong_Kong:20250613T133000
LOCATION:Room 2463 (Lifts 25-26), 2/F Academic Building, HKUST
SUMMARY:MPhil in Electronic & Comp Engg - Clustering Kernel Least Square Point Process Filter for Neural Correlation Detection during Rat’s Two-lever Discrimination Task
UID:43818
END:VEVENT
END:VCALENDAR