BEGIN:VCALENDAR
PRODID:-//HKUST Drupal Platform//EN
VERSION:2.0
BEGIN:VTIMEZONE
TZID:Asia/Hong_Kong
BEGIN:STANDARD
DTSTART:20071104T020000
TZOFFSETFROM:+0700
TZOFFSETTO:+0800
TZNAME:HKT
END:STANDARD
END:VTIMEZONE
BEGIN:VEVENT
DTSTAMP;TZID=Asia/Hong_Kong:20260425T224304
DTSTART;TZID=Asia/Hong_Kong:20250417T093000
DTEND;TZID=Asia/Hong_Kong:20250417T123000
LOCATION:Room 5564 (Lifts 27/28), 5/F. Academic Building, HKUST
SUMMARY:PHD in Mechanical Engineering - A Multi-faceted Prediction Framework for Assessing the Noise Impact by Aircraft Operations
UID:43794
END:VEVENT
END:VCALENDAR