BEGIN:VCALENDAR
PRODID:-//HKUST Drupal Platform//EN
VERSION:2.0
BEGIN:VTIMEZONE
TZID:Asia/Hong_Kong
BEGIN:STANDARD
DTSTART:20071104T020000
TZOFFSETFROM:+0700
TZOFFSETTO:+0800
TZNAME:HKT
END:STANDARD
END:VTIMEZONE
BEGIN:VEVENT
DTSTAMP;TZID=Asia/Hong_Kong:20260420T083844
DTSTART;TZID=Asia/Hong_Kong:20250425T160000
DTEND;TZID=Asia/Hong_Kong:20250425T170000
LOCATION:Room 3574 (Lift 27/28), Civil Engineering Conference Room, HKUST
SUMMARY:[CANCELLED] Civil Engineering Departmental Seminar  - Integration of electric vehicle charging infrastructure with solar resources
UID:43782
END:VEVENT
END:VCALENDAR