BEGIN:VCALENDAR
PRODID:-//HKUST Drupal Platform//EN
VERSION:2.0
BEGIN:VTIMEZONE
TZID:Asia/Hong_Kong
BEGIN:STANDARD
DTSTART:20071104T020000
TZOFFSETFROM:+0700
TZOFFSETTO:+0800
TZNAME:HKT
END:STANDARD
END:VTIMEZONE
BEGIN:VEVENT
DTSTAMP;TZID=Asia/Hong_Kong:20260425T224303
DTSTART;TZID=Asia/Hong_Kong:20250509T100000
DTEND;TZID=Asia/Hong_Kong:20250509T130000
LOCATION:Room 4472 (Lifts 25-26), 4/F Academic Building, HKUST
SUMMARY:PHD in Electronic & Comp Engg - A Combinatorial Perspective on the Identification of Peptides with Multiple Post-translational Modifications
UID:43739
END:VEVENT
END:VCALENDAR