BEGIN:VCALENDAR
PRODID:-//HKUST Drupal Platform//EN
VERSION:2.0
BEGIN:VTIMEZONE
TZID:Asia/Hong_Kong
BEGIN:STANDARD
DTSTART:20071104T020000
TZOFFSETFROM:+0700
TZOFFSETTO:+0800
TZNAME:HKT
END:STANDARD
END:VTIMEZONE
BEGIN:VEVENT
DTSTAMP;TZID=Asia/Hong_Kong:20260425T210728
DTSTART;TZID=Asia/Hong_Kong:20250509T103000
DTEND;TZID=Asia/Hong_Kong:20250509T133000
LOCATION:Room 4475 (Lifts 25-26), 4/F Academic Building, HKUST
SUMMARY:PHD in Mathematics - A Study of 3D Learning in Computer Vision and Science
UID:43714
END:VEVENT
END:VCALENDAR