BEGIN:VCALENDAR
PRODID:-//HKUST Drupal Platform//EN
VERSION:2.0
BEGIN:VTIMEZONE
TZID:Asia/Hong_Kong
BEGIN:STANDARD
DTSTART:20071104T020000
TZOFFSETFROM:+0700
TZOFFSETTO:+0800
TZNAME:HKT
END:STANDARD
END:VTIMEZONE
BEGIN:VEVENT
DTSTAMP;TZID=Asia/Hong_Kong:20260425T185522
DTSTART;TZID=Asia/Hong_Kong:20250422T113000
DTEND;TZID=Asia/Hong_Kong:20250422T143000
LOCATION:Rm 3401 (Lift 2, 17-18), 3/F Academic Building, HKUST
SUMMARY:PHD in Social Science - Professional Education and Employment in China: Health and Engineering, 1905-1952
UID:43703
END:VEVENT
END:VCALENDAR