BEGIN:VCALENDAR
PRODID:-//HKUST Drupal Platform//EN
VERSION:2.0
BEGIN:VTIMEZONE
TZID:Asia/Hong_Kong
BEGIN:STANDARD
DTSTART:20071104T020000
TZOFFSETFROM:+0700
TZOFFSETTO:+0800
TZNAME:HKT
END:STANDARD
END:VTIMEZONE
BEGIN:VEVENT
DTSTAMP;TZID=Asia/Hong_Kong:20260425T185519
DTSTART;TZID=Asia/Hong_Kong:20250507T100000
DTEND;TZID=Asia/Hong_Kong:20250507T130000
LOCATION:Room 4475 (Lifts 25-26), 4/F Academic Building, HKUST
SUMMARY:PHD in Mathematics - Plating Privacy onto Structured Data: Estimation Examples in Regression and an Open Challenge in PCA
UID:43701
END:VEVENT
END:VCALENDAR