BEGIN:VCALENDAR
PRODID:-//HKUST Drupal Platform//EN
VERSION:2.0
BEGIN:VTIMEZONE
TZID:Asia/Hong_Kong
BEGIN:STANDARD
DTSTART:20071104T020000
TZOFFSETFROM:+0700
TZOFFSETTO:+0800
TZNAME:HKT
END:STANDARD
END:VTIMEZONE
BEGIN:VEVENT
DTSTAMP;TZID=Asia/Hong_Kong:20260425T105102
DTSTART;TZID=Asia/Hong_Kong:20250416T143000
DTEND;TZID=Asia/Hong_Kong:20250416T173000
LOCATION:Room 2303 (Lifts 17-18), 2/F Academic Building, HKUST
SUMMARY:PHD in Chemistry - Molecular Design and Synthesis of Quinoxaline-Based Materials for High Performance Organic Solar Cells
UID:43673
END:VEVENT
END:VCALENDAR