BEGIN:VCALENDAR
PRODID:-//HKUST Drupal Platform//EN
VERSION:2.0
BEGIN:VTIMEZONE
TZID:Asia/Hong_Kong
BEGIN:STANDARD
DTSTART:20071104T020000
TZOFFSETFROM:+0700
TZOFFSETTO:+0800
TZNAME:HKT
END:STANDARD
END:VTIMEZONE
BEGIN:VEVENT
DTSTAMP;TZID=Asia/Hong_Kong:20260425T185517
DTSTART;TZID=Asia/Hong_Kong:20250422T150000
DTEND;TZID=Asia/Hong_Kong:20250422T180000
LOCATION:W3-105, GZ Campus / Zoom ID: 939 2142 6405, Passcode: dsa2025, HKUST
SUMMARY:PHD in Individual Interdisci Prog - Bridging Classification and Generation: From Neural Collapse in Imbalanced Classification to Discriminative-driven Image Generation
UID:43644
END:VEVENT
END:VCALENDAR