BEGIN:VCALENDAR
PRODID:-//HKUST Drupal Platform//EN
VERSION:2.0
BEGIN:VTIMEZONE
TZID:Asia/Hong_Kong
BEGIN:STANDARD
DTSTART:20071104T020000
TZOFFSETFROM:+0700
TZOFFSETTO:+0800
TZNAME:HKT
END:STANDARD
END:VTIMEZONE
BEGIN:VEVENT
DTSTAMP;TZID=Asia/Hong_Kong:20260425T105104
DTSTART;TZID=Asia/Hong_Kong:20250410T090000
DTEND;TZID=Asia/Hong_Kong:20250410T120000
LOCATION:W1, 2F, 202 , Teaching District, Guangzhou campus, HKUST(GZ), HKUST
SUMMARY:PHD in Individual Interdisci Prog - Machine learning-enabled quality inspection of fabricated artifacts by using unstructured 3D point cloud data
UID:43537
END:VEVENT
END:VCALENDAR