BEGIN:VCALENDAR
PRODID:-//HKUST Drupal Platform//EN
VERSION:2.0
BEGIN:VTIMEZONE
TZID:Asia/Hong_Kong
BEGIN:STANDARD
DTSTART:20071104T020000
TZOFFSETFROM:+0700
TZOFFSETTO:+0800
TZNAME:HKT
END:STANDARD
END:VTIMEZONE
BEGIN:VEVENT
DTSTAMP;TZID=Asia/Hong_Kong:20260425T105103
DTSTART;TZID=Asia/Hong_Kong:20250407T150000
DTEND;TZID=Asia/Hong_Kong:20250407T180000
LOCATION:Room CYTG002, HKUST(Onsite) https://hkust-gz-edu-cn.zoom.us/j/93916288515?pwd=gColaZ0yNmwlxasT15V7ygmzPxdpMH.1  Zoom ID: 939 1628 8515 Passcode: Fintech  (Online), HKUST
SUMMARY:PHD in Individual Interdisci Prog - Four Essays on Large Language Models in Finance and Business
UID:43486
END:VEVENT
END:VCALENDAR