BEGIN:VCALENDAR
PRODID:-//HKUST Drupal Platform//EN
VERSION:2.0
BEGIN:VTIMEZONE
TZID:Asia/Hong_Kong
BEGIN:STANDARD
DTSTART:20071104T020000
TZOFFSETFROM:+0700
TZOFFSETTO:+0800
TZNAME:HKT
END:STANDARD
END:VTIMEZONE
BEGIN:VEVENT
DTSTAMP;TZID=Asia/Hong_Kong:20260420T153659
DTSTART;TZID=Asia/Hong_Kong:20250227T000000
DTEND;TZID=Asia/Hong_Kong:20250303T235900
SUMMARY:Join the Climate Innovator Program – Empowering Future Climate Leaders
UID:43452
END:VEVENT
END:VCALENDAR