BEGIN:VCALENDAR
PRODID:-//HKUST Drupal Platform//EN
VERSION:2.0
BEGIN:VTIMEZONE
TZID:Asia/Hong_Kong
BEGIN:STANDARD
DTSTART:20071104T020000
TZOFFSETFROM:+0700
TZOFFSETTO:+0800
TZNAME:HKT
END:STANDARD
END:VTIMEZONE
BEGIN:VEVENT
DTSTAMP;TZID=Asia/Hong_Kong:20260425T212616
DTSTART;TZID=Asia/Hong_Kong:20250318T100000
DTEND;TZID=Asia/Hong_Kong:20250318T130000
LOCATION:Room 2408 (Lifts 17-18), 2/F Academic Building, HKUST
SUMMARY:PHD in Electronic & Comp Engg - Design and Fabrication of GaN-based HEMT-μLED Display and Pixel Circuit
UID:43450
END:VEVENT
END:VCALENDAR