BEGIN:VCALENDAR
PRODID:-//HKUST Drupal Platform//EN
VERSION:2.0
BEGIN:VTIMEZONE
TZID:Asia/Hong_Kong
BEGIN:STANDARD
DTSTART:20071104T020000
TZOFFSETFROM:+0700
TZOFFSETTO:+0800
TZNAME:HKT
END:STANDARD
END:VTIMEZONE
BEGIN:VEVENT
DTSTAMP;TZID=Asia/Hong_Kong:20260420T132910
DTSTART;TZID=Asia/Hong_Kong:20250408T144500
DTEND;TZID=Asia/Hong_Kong:20250408T171500
LOCATION:HKUST campus
SUMMARY:Beach Clean Up @HKUST 科大海岸清潔 (Apr 2025)
UID:43368
END:VEVENT
END:VCALENDAR