BEGIN:VCALENDAR
PRODID:-//HKUST Drupal Platform//EN
VERSION:2.0
BEGIN:VTIMEZONE
TZID:Asia/Hong_Kong
BEGIN:STANDARD
DTSTART:20071104T020000
TZOFFSETFROM:+0700
TZOFFSETTO:+0800
TZNAME:HKT
END:STANDARD
END:VTIMEZONE
BEGIN:VEVENT
DTSTAMP;TZID=Asia/Hong_Kong:20260425T224305
DTSTART;TZID=Asia/Hong_Kong:20250325T100000
DTEND;TZID=Asia/Hong_Kong:20250325T130000
LOCATION:Room 2408 (Lifts 17-18), 2/F Academic Building, HKUST
SUMMARY:MPhil in Electronic & Comp Engg - Multi-phase Clock Generator for High-speed Wireline Transceiver Systems
UID:43290
END:VEVENT
END:VCALENDAR