BEGIN:VCALENDAR
PRODID:-//HKUST Drupal Platform//EN
VERSION:2.0
BEGIN:VTIMEZONE
TZID:Asia/Hong_Kong
BEGIN:STANDARD
DTSTART:20071104T020000
TZOFFSETFROM:+0700
TZOFFSETTO:+0800
TZNAME:HKT
END:STANDARD
END:VTIMEZONE
BEGIN:VEVENT
DTSTAMP;TZID=Asia/Hong_Kong:20260426T071730
DTSTART;TZID=Asia/Hong_Kong:20250211T150000
DTEND;TZID=Asia/Hong_Kong:20250211T180000
LOCATION:Room 4472 (Lifts 25-26), 4/F Academic Building, HKUST
SUMMARY:PHD in Computer Science & Engg - Advancing High-Performance and Scalable RDMA NICs for Datacenters
UID:43221
END:VEVENT
END:VCALENDAR