BEGIN:VCALENDAR
PRODID:-//HKUST Drupal Platform//EN
VERSION:2.0
BEGIN:VTIMEZONE
TZID:Asia/Hong_Kong
BEGIN:STANDARD
DTSTART:20071104T020000
TZOFFSETFROM:+0700
TZOFFSETTO:+0800
TZNAME:HKT
END:STANDARD
END:VTIMEZONE
BEGIN:VEVENT
DTSTAMP;TZID=Asia/Hong_Kong:20260423T073552
DTSTART;TZID=Asia/Hong_Kong:20250325T160000
DTEND;TZID=Asia/Hong_Kong:20250325T173000
LOCATION:TBC, TBC
SUMMARY:Sandwich (Trilingual) Cantonese Pronunciation 4 -粵語短音(staccato)
UID:43115
END:VEVENT
END:VCALENDAR