BEGIN:VCALENDAR
PRODID:-//HKUST Drupal Platform//EN
VERSION:2.0
BEGIN:VTIMEZONE
TZID:Asia/Hong_Kong
BEGIN:STANDARD
DTSTART:20071104T020000
TZOFFSETFROM:+0700
TZOFFSETTO:+0800
TZNAME:HKT
END:STANDARD
END:VTIMEZONE
BEGIN:VEVENT
DTSTAMP;TZID=Asia/Hong_Kong:20260426T001003
DTSTART;TZID=Asia/Hong_Kong:20250219T143000
DTEND;TZID=Asia/Hong_Kong:20250219T173000
LOCATION:Room 2408 (Lifts 17/18), 2/F. Academic Building, HKUST
SUMMARY:PHD in Mechanical Engineering - Fast Solution Methods for Modeling Acoustic Problems Based on The Boundary Element Method and Neural Operators
UID:43105
END:VEVENT
END:VCALENDAR